BEGIN:VCALENDAR
VERSION:2.0
PRODID:-//Contratero//ES
CALSCALE:GREGORIAN
METHOD:PUBLISH
BEGIN:VEVENT
UID:PNSP_SU_23_05@contratero.es
DTSTAMP:20260423T020016Z
DTSTART:20231016T235959
DTEND:20231017T005959
SUMMARY:Cierre: Suministro de Licencias de Microsoft para la Agenc
DESCRIPTION:Suministro de Licencias de Microsoft para la Agencia Tributaria Canaria.\\n\\nOrganismo: Dirección de la Agencia Tributaria Canaria\\n\\nVer en Contratero: https://contratero.es/contracts/PNSP_SU_23_05
URL:https://contratero.es/contracts/PNSP_SU_23_05
STATUS:CONFIRMED
BEGIN:VALARM
TRIGGER:-P1D
ACTION:DISPLAY
DESCRIPTION:Recordatorio: Suministro de Licencias de Mic
END:VALARM
END:VEVENT
END:VCALENDAR