BEGIN:VCALENDAR
VERSION:2.0
PRODID:-//Contratero//ES
CALSCALE:GREGORIAN
METHOD:PUBLISH
BEGIN:VEVENT
UID:PR-SE-58/2021@contratero.es
DTSTAMP:20260423T145346Z
DTSTART:20211115T235959
DTEND:20211116T005959
SUMMARY:Cierre: Suministro de sistemas\, copias de seguridad y corr
DESCRIPTION:Suministro de sistemas\, copias de seguridad y correo electrónico para el Ayuntamiento de Valladolid.\\n\\nOrganismo: Concejalía Delegada de Planificación y Recursos del Ayuntamiento de Valladolid\\n\\nVer en Contratero: https://contratero.es/contracts/PR-SE-58/2021
URL:https://contratero.es/contracts/PR-SE-58/2021
STATUS:CONFIRMED
BEGIN:VALARM
TRIGGER:-P1D
ACTION:DISPLAY
DESCRIPTION:Recordatorio: Suministro de sistemas\, copias
END:VALARM
END:VEVENT
END:VCALENDAR