BEGIN:VCALENDAR
VERSION:2.0
PRODID:-//Contratero//ES
CALSCALE:GREGORIAN
METHOD:PUBLISH
BEGIN:VEVENT
UID:PRC/2023/0000121599@contratero.es
DTSTAMP:20260422T210531Z
DTSTART:20231204T235959
DTEND:20231205T005959
SUMMARY:Cierre: Obra de Digitalización de varias estaciones de aut
DESCRIPTION:Obra de Digitalización de varias estaciones de autobuses de Extremadura\\n\\nOrganismo: Consejería de Infraestructuras\, Transporte y Vivienda\\n\\nVer en Contratero: https://contratero.es/contracts/PRC/2023/0000121599
URL:https://contratero.es/contracts/PRC/2023/0000121599
STATUS:CONFIRMED
BEGIN:VALARM
TRIGGER:-P1D
ACTION:DISPLAY
DESCRIPTION:Recordatorio: Obra de Digitalización de vari
END:VALARM
END:VEVENT
END:VCALENDAR