BEGIN:VCALENDAR
VERSION:2.0
PRODID:-//Contratero//ES
CALSCALE:GREGORIAN
METHOD:PUBLISH
BEGIN:VEVENT
UID:PRCAME/2025/0000076001@contratero.es
DTSTAMP:20260421T171730Z
DTSTART:20250620T235959
DTEND:20250621T005959
SUMMARY:Cierre: Suministro de licencias software por suscripción p
DESCRIPTION:Suministro de licencias software por suscripción para la productividad y colaboración de la comunidad educativa de Extremadura\\n\\nOrganismo: Consejería de Economía\, Empleo y Transformación Digital\\n\\nVer en Contratero: https://contratero.es/contracts/PRCAME/2025/0000076001
URL:https://contratero.es/contracts/PRCAME/2025/0000076001
STATUS:CONFIRMED
BEGIN:VALARM
TRIGGER:-P1D
ACTION:DISPLAY
DESCRIPTION:Recordatorio: Suministro de licencias softwa
END:VALARM
END:VEVENT
END:VCALENDAR