BEGIN:VCALENDAR
VERSION:2.0
PRODID:-//Contratero//ES
CALSCALE:GREGORIAN
METHOD:PUBLISH
BEGIN:VEVENT
UID:PRCAME/2025/0000145890@contratero.es
DTSTAMP:20260420T030653Z
DTSTART:20251121T235959
DTEND:20251122T005959
SUMMARY:Cierre: Suministro de licencias de la plataforma de conten
DESCRIPTION:Suministro de licencias de la plataforma de contenerización y orquestación open source corporativa de la Junta de Extremadura\\n\\nOrganismo: Consejería de Economía\, Empleo y Transformación Digital\\n\\nVer en Contratero: https://contratero.es/contracts/PRCAME/2025/0000145890
URL:https://contratero.es/contracts/PRCAME/2025/0000145890
STATUS:CONFIRMED
BEGIN:VALARM
TRIGGER:-P1D
ACTION:DISPLAY
DESCRIPTION:Recordatorio: Suministro de licencias de la 
END:VALARM
END:VEVENT
END:VCALENDAR