BEGIN:VCALENDAR
VERSION:2.0
PRODID:-//Contratero//ES
CALSCALE:GREGORIAN
METHOD:PUBLISH
BEGIN:VEVENT
UID:PRI_DGJ_2023_14@contratero.es
DTSTAMP:20260422T210254Z
DTSTART:20230919T235959
DTEND:20230920T005959
SUMMARY:Cierre: Adquisición de los activos en modalidad nube para 
DESCRIPTION:Adquisición de los activos en modalidad nube para la disposición de un sistema de escritorio virtual para la Administración de Justicia de la Comunidad Autónoma de Aragón.\\n\\nOrganismo: Departamento de Presidencia y Relaciones Institucionales\\n\\nVer en Contratero: https://contratero.es/contracts/PRI_DGJ_2023_14
URL:https://contratero.es/contracts/PRI_DGJ_2023_14
STATUS:CONFIRMED
BEGIN:VALARM
TRIGGER:-P1D
ACTION:DISPLAY
DESCRIPTION:Recordatorio: Adquisición de los activos en 
END:VALARM
END:VEVENT
END:VCALENDAR