BEGIN:VCALENDAR
VERSION:2.0
PRODID:-//Contratero//ES
CALSCALE:GREGORIAN
METHOD:PUBLISH
BEGIN:VEVENT
UID:PSA-SE-95-2021@contratero.es
DTSTAMP:20260423T063322Z
DTSTART:20201209T235959
DTEND:20201210T005959
SUMMARY:Cierre: Mantenimiento software interconexión monitorizació
DESCRIPTION:Mantenimiento software interconexión monitorización Uci y Ecg\\n\\nOrganismo: Consorcio Hospital General Universitario de Valencia\\n\\nVer en Contratero: https://contratero.es/contracts/PSA-SE-95-2021
URL:https://contratero.es/contracts/PSA-SE-95-2021
STATUS:CONFIRMED
BEGIN:VALARM
TRIGGER:-P1D
ACTION:DISPLAY
DESCRIPTION:Recordatorio: Mantenimiento software interco
END:VALARM
END:VEVENT
END:VCALENDAR