BEGIN:VCALENDAR
VERSION:2.0
PRODID:-//Contratero//ES
CALSCALE:GREGORIAN
METHOD:PUBLISH
BEGIN:VEVENT
UID:PSS/2020/0000016495@contratero.es
DTSTAMP:20260421T092445Z
DTSTART:20200715T235959
DTEND:20200716T005959
SUMMARY:Cierre: Servicio de creación y puesta en servicio de una a
DESCRIPTION:Servicio de creación y puesta en servicio de una aplicación web para la toma y gestión de datos estadísticos de los usuarios de las Oficinas de Turismo de Extremadura\\n\\nOrganismo: Consejería de Cultura\, Turismo y Deportes\\n\\nVer en Contratero: https://contratero.es/contracts/PSS/2020/0000016495
URL:https://contratero.es/contracts/PSS/2020/0000016495
STATUS:CONFIRMED
BEGIN:VALARM
TRIGGER:-P1D
ACTION:DISPLAY
DESCRIPTION:Recordatorio: Servicio de creación y puesta 
END:VALARM
END:VEVENT
END:VCALENDAR