BEGIN:VCALENDAR
VERSION:2.0
PRODID:-//Contratero//ES
CALSCALE:GREGORIAN
METHOD:PUBLISH
BEGIN:VEVENT
UID:PSS/2021/0000108131@contratero.es
DTSTAMP:20260424T061537Z
DTSTART:20220114T235959
DTEND:20220115T005959
SUMMARY:Cierre: Prestación de servicios profesionales necesarios p
DESCRIPTION:Prestación de servicios profesionales necesarios para la definición\, desarrollo\, implantación\, operación y mejora continua del sistema de gestión de privacidad y seguridad de la información de la Comu...\\n\\nOrganismo: Consejería de Hacienda y Administración Pública\\n\\nVer en Contratero: https://contratero.es/contracts/PSS/2021/0000108131
URL:https://contratero.es/contracts/PSS/2021/0000108131
STATUS:CONFIRMED
BEGIN:VALARM
TRIGGER:-P1D
ACTION:DISPLAY
DESCRIPTION:Recordatorio: Prestación de servicios profes
END:VALARM
END:VEVENT
END:VCALENDAR