BEGIN:VCALENDAR
VERSION:2.0
PRODID:-//Contratero//ES
CALSCALE:GREGORIAN
METHOD:PUBLISH
BEGIN:VEVENT
UID:PSS/2021/0000148894@contratero.es
DTSTAMP:20260422T201431Z
DTSTART:20220111T235959
DTEND:20220112T005959
SUMMARY:Cierre: MR SERMA22033 Servicio de inventario de áreas degr
DESCRIPTION:MR SERMA22033 Servicio de inventario de áreas degradadas en Hábitats naturales de interés comunitario de Extremadura (2022-2023) financiado por PRTR.\\n\\nOrganismo: Consejería para la Transición Ecológica y Sostenibilidad\\n\\nVer en Contratero: https://contratero.es/contracts/PSS/2021/0000148894
URL:https://contratero.es/contracts/PSS/2021/0000148894
STATUS:CONFIRMED
BEGIN:VALARM
TRIGGER:-P1D
ACTION:DISPLAY
DESCRIPTION:Recordatorio: MR SERMA22033 Servicio de inve
END:VALARM
END:VEVENT
END:VCALENDAR