BEGIN:VCALENDAR
VERSION:2.0
PRODID:-//Contratero//ES
CALSCALE:GREGORIAN
METHOD:PUBLISH
BEGIN:VEVENT
UID:PSS/2023/0000126791@contratero.es
DTSTAMP:20260421T061931Z
DTSTART:20240112T235959
DTEND:20240113T005959
SUMMARY:Cierre: Tratamiento y gestión de los expedientes existente
DESCRIPTION:Tratamiento y gestión de los expedientes existentes en el Centro de Atención a la Discapacidad (CADEX) de Badajoz\\n\\nOrganismo: Servicio Extremeño de Promoción de la Autonomía y Atención a la Dependencia (SEPAD).Gerencia Territorial de Badajoz\\n\\nVer en Contratero: https://contratero.es/contracts/PSS/2023/0000126791
URL:https://contratero.es/contracts/PSS/2023/0000126791
STATUS:CONFIRMED
BEGIN:VALARM
TRIGGER:-P1D
ACTION:DISPLAY
DESCRIPTION:Recordatorio: Tratamiento y gestión de los e
END:VALARM
END:VEVENT
END:VCALENDAR