BEGIN:VCALENDAR
VERSION:2.0
PRODID:-//Contratero//ES
CALSCALE:GREGORIAN
METHOD:PUBLISH
BEGIN:VEVENT
UID:PSS/2023/0000127808@contratero.es
DTSTAMP:20260422T120303Z
DTSTART:20231218T235959
DTEND:20231219T005959
SUMMARY:Cierre: Servicios para el desarrollo e implantación de un 
DESCRIPTION:Servicios para el desarrollo e implantación de un sistema de audioguías turísticas con información de todos los recursos del destino. Corredor Vía de la Plata y Camino Mozárabe.\\n\\nOrganismo: Consejería de Cultura\, Turismo\, Jóvenes y Deportes\\n\\nVer en Contratero: https://contratero.es/contracts/PSS/2023/0000127808
URL:https://contratero.es/contracts/PSS/2023/0000127808
STATUS:CONFIRMED
BEGIN:VALARM
TRIGGER:-P1D
ACTION:DISPLAY
DESCRIPTION:Recordatorio: Servicios para el desarrollo e
END:VALARM
END:VEVENT
END:VCALENDAR