BEGIN:VCALENDAR
VERSION:2.0
PRODID:-//Contratero//ES
CALSCALE:GREGORIAN
METHOD:PUBLISH
BEGIN:VEVENT
UID:PSS/2025/0000091651@contratero.es
DTSTAMP:20260426T005630Z
DTSTART:20250924T235959
DTEND:20250925T005959
SUMMARY:Cierre: Servicio de inteligencia comercial para la búsqued
DESCRIPTION:Servicio de inteligencia comercial para la búsqueda activa de inversores y captación de proyectos de inversión chinos\, a través del establecimiento de una antena de representación en destino\, así como...\\n\\nOrganismo: Consejería de Economía\, Empleo y Transformación Digital\\n\\nVer en Contratero: https://contratero.es/contracts/PSS/2025/0000091651
URL:https://contratero.es/contracts/PSS/2025/0000091651
STATUS:CONFIRMED
BEGIN:VALARM
TRIGGER:-P1D
ACTION:DISPLAY
DESCRIPTION:Recordatorio: Servicio de inteligencia comer
END:VALARM
END:VEVENT
END:VCALENDAR