BEGIN:VCALENDAR
VERSION:2.0
PRODID:-//Contratero//ES
CALSCALE:GREGORIAN
METHOD:PUBLISH
BEGIN:VEVENT
UID:PSS/2025/0000142799@contratero.es
DTSTAMP:20260420T142622Z
DTSTART:20260123T235959
DTEND:20260124T005959
SUMMARY:Cierre: Servicio de Actualización de la Estrategia de Turi
DESCRIPTION:Servicio de Actualización de la Estrategia de Turismo Cultural de Extremadura 2026-2030.\\n\\nOrganismo: Consejería de Cultura\, Turismo\, Jóvenes y Deportes\\n\\nVer en Contratero: https://contratero.es/contracts/PSS/2025/0000142799
URL:https://contratero.es/contracts/PSS/2025/0000142799
STATUS:CONFIRMED
BEGIN:VALARM
TRIGGER:-P1D
ACTION:DISPLAY
DESCRIPTION:Recordatorio: Servicio de Actualización de l
END:VALARM
END:VEVENT
END:VCALENDAR