BEGIN:VCALENDAR
VERSION:2.0
PRODID:-//Contratero//ES
CALSCALE:GREGORIAN
METHOD:PUBLISH
BEGIN:VEVENT
UID:PSS/2025/0000153575@contratero.es
DTSTAMP:20260421T112823Z
DTSTART:20251226T235959
DTEND:20251227T005959
SUMMARY:Cierre: Servicio de implementación y acceso a la herramien
DESCRIPTION:Servicio de implementación y acceso a la herramienta para la gestión de episodios de riesgo violento y de difícil predicción de componente meteorológico. PRAEX (Portal de red de alertas de Extremadura...\\n\\nOrganismo: Consejería de Presidencia\, Interior y Diálogo Social\\n\\nVer en Contratero: https://contratero.es/contracts/PSS/2025/0000153575
URL:https://contratero.es/contracts/PSS/2025/0000153575
STATUS:CONFIRMED
BEGIN:VALARM
TRIGGER:-P1D
ACTION:DISPLAY
DESCRIPTION:Recordatorio: Servicio de implementación y a
END:VALARM
END:VEVENT
END:VCALENDAR