BEGIN:VCALENDAR
VERSION:2.0
PRODID:-//Contratero//ES
CALSCALE:GREGORIAN
METHOD:PUBLISH
BEGIN:VEVENT
UID:PSTD/007/2025@contratero.es
DTSTAMP:20260424T021028Z
DTSTART:20260101T235959
DTEND:20260102T005959
SUMMARY:Cierre: Contrato de “servicios para la transición digital 
DESCRIPTION:Contrato de “servicios para la transición digital en el destino Montes de Toledo”\, dentro del Plan de Sostenibilidad Turística (pstd) Montes de Toledo del grupo de desarrollo rural Montes de Toledo\, e...\\n\\nOrganismo: Junta Directiva de la Asociación para el Desarrollo Integrado del Territorio Montes Toledanos\\n\\nVer en Contratero: https://contratero.es/contracts/PSTD/007/2025
URL:https://contratero.es/contracts/PSTD/007/2025
STATUS:CONFIRMED
BEGIN:VALARM
TRIGGER:-P1D
ACTION:DISPLAY
DESCRIPTION:Recordatorio: Contrato de “servicios para la
END:VALARM
END:VEVENT
END:VCALENDAR