BEGIN:VCALENDAR
VERSION:2.0
PRODID:-//Contratero//ES
CALSCALE:GREGORIAN
METHOD:PUBLISH
BEGIN:VEVENT
UID:PSU/2025/0000095133@contratero.es
DTSTAMP:20260423T063231Z
DTSTART:20251110T235959
DTEND:20251111T005959
SUMMARY:Cierre: Contrato mixto (suministro y servicios) para la ad
DESCRIPTION:Contrato mixto (suministro y servicios) para la adquisición de la licencia de uso y mantenimiento de la aplicación Oficina 360º para la coordinación de los Fondos de Mecanismos de Recuperación y Resil...\\n\\nOrganismo: Consejería de Hacienda y Administración Pública\\n\\nVer en Contratero: https://contratero.es/contracts/PSU/2025/0000095133
URL:https://contratero.es/contracts/PSU/2025/0000095133
STATUS:CONFIRMED
BEGIN:VALARM
TRIGGER:-P1D
ACTION:DISPLAY
DESCRIPTION:Recordatorio: Contrato mixto (suministro y s
END:VALARM
END:VEVENT
END:VCALENDAR