BEGIN:VCALENDAR
VERSION:2.0
PRODID:-//Contratero//ES
CALSCALE:GREGORIAN
METHOD:PUBLISH
BEGIN:VEVENT
UID:P_10_26@contratero.es
DTSTAMP:20260420T064251Z
DTSTART:20260311T235959
DTEND:20260312T005959
SUMMARY:Cierre: Suministro de licencias de uso de plataforma CRM H
DESCRIPTION:Suministro de licencias de uso de plataforma CRM HUBSPOT\\n\\nOrganismo: Consejero Delegado de la Sociedad Canaria de Fomento Económico S.A. - PROEXCA\\n\\nVer en Contratero: https://contratero.es/contracts/P_10_26
URL:https://contratero.es/contracts/P_10_26
STATUS:CONFIRMED
BEGIN:VALARM
TRIGGER:-P1D
ACTION:DISPLAY
DESCRIPTION:Recordatorio: Suministro de licencias de uso
END:VALARM
END:VEVENT
END:VCALENDAR