BEGIN:VCALENDAR
VERSION:2.0
PRODID:-//Contratero//ES
CALSCALE:GREGORIAN
METHOD:PUBLISH
BEGIN:VEVENT
UID:P_22_0226@contratero.es
DTSTAMP:20260423T080951Z
DTSTART:20230410T235959
DTEND:20230411T005959
SUMMARY:Cierre: Renovación de la infraestructura central de sistem
DESCRIPTION:Renovación de la infraestructura central de sistemas en los dos CPD principales del Ayuntamiento de Murcia\\n\\nOrganismo: Junta de Gobierno del Ayuntamiento de Murcia\\n\\nVer en Contratero: https://contratero.es/contracts/P_22_0226
URL:https://contratero.es/contracts/P_22_0226
STATUS:CONFIRMED
BEGIN:VALARM
TRIGGER:-P1D
ACTION:DISPLAY
DESCRIPTION:Recordatorio: Renovación de la infraestructu
END:VALARM
END:VEVENT
END:VCALENDAR