BEGIN:VCALENDAR
VERSION:2.0
PRODID:-//Contratero//ES
CALSCALE:GREGORIAN
METHOD:PUBLISH
BEGIN:VEVENT
UID:P_4_23@contratero.es
DTSTAMP:20260423T022202Z
DTSTART:20230327T235959
DTEND:20230328T005959
SUMMARY:Cierre: Diseño\, desarrollo y mantenimiento del portal web 
DESCRIPTION:Diseño\, desarrollo y mantenimiento del portal web y apoyo en la implementación de las medidas de comunicación del programa de cooperación territorial INTERREG VI-D MADEIRA-AZORES-CANARIAS (MAC) 2021-2...\\n\\nOrganismo: Directora-Gerente PROEXCA\\n\\nVer en Contratero: https://contratero.es/contracts/P_4_23
URL:https://contratero.es/contracts/P_4_23
STATUS:CONFIRMED
BEGIN:VALARM
TRIGGER:-P1D
ACTION:DISPLAY
DESCRIPTION:Recordatorio: Diseño\, desarrollo y mantenimi
END:VALARM
END:VEVENT
END:VCALENDAR