BEGIN:VCALENDAR
VERSION:2.0
PRODID:-//Contratero//ES
CALSCALE:GREGORIAN
METHOD:PUBLISH
BEGIN:VEVENT
UID:RI183B120990@contratero.es
DTSTAMP:20260426T035150Z
DTSTART:20180725T235959
DTEND:20180726T005959
SUMMARY:Cierre: Servicio de creación de recursos digitales del fon
DESCRIPTION:Servicio de creación de recursos digitales del fondo histórico conservado en la red de bibliotecas de Extremadura.\\n\\nOrganismo: Consejería de Cultura\, Turismo y Deportes\\n\\nVer en Contratero: https://contratero.es/contracts/RI183B120990
URL:https://contratero.es/contracts/RI183B120990
STATUS:CONFIRMED
BEGIN:VALARM
TRIGGER:-P1D
ACTION:DISPLAY
DESCRIPTION:Recordatorio: Servicio de creación de recurs
END:VALARM
END:VEVENT
END:VCALENDAR