BEGIN:VCALENDAR
VERSION:2.0
PRODID:-//Contratero//ES
CALSCALE:GREGORIAN
METHOD:PUBLISH
BEGIN:VEVENT
UID:S-00017-2026@contratero.es
DTSTAMP:20260419T164340Z
DTSTART:20260126T235959
DTEND:20260127T005959
SUMMARY:Cierre: Licencias Mistral Team y Gemini Enterprise Plus
DESCRIPTION:Licencias Mistral Team y Gemini Enterprise Plus\\n\\nOrganismo: Dirección de Compras de la Corporación de Radio y Televisión Española S.A.\\n\\nVer en Contratero: https://contratero.es/contracts/S-00017-2026
URL:https://contratero.es/contracts/S-00017-2026
STATUS:CONFIRMED
BEGIN:VALARM
TRIGGER:-P1D
ACTION:DISPLAY
DESCRIPTION:Recordatorio: Licencias Mistral Team y Gemin
END:VALARM
END:VEVENT
END:VCALENDAR