BEGIN:VCALENDAR
VERSION:2.0
PRODID:-//Contratero//ES
CALSCALE:GREGORIAN
METHOD:PUBLISH
BEGIN:VEVENT
UID:S-01079-20200207@contratero.es
DTSTAMP:20260424T233407Z
DTSTART:20200511T235959
DTEND:20200512T005959
SUMMARY:Cierre: Servicio Integral de Ciberseguridad para RTVE (SIC
DESCRIPTION:Servicio Integral de Ciberseguridad para RTVE (SIC20)\\n\\nOrganismo: Dirección de Compras de la Corporación de Radio y Televisión Española S.A.\\n\\nVer en Contratero: https://contratero.es/contracts/S-01079-20200207
URL:https://contratero.es/contracts/S-01079-20200207
STATUS:CONFIRMED
BEGIN:VALARM
TRIGGER:-P1D
ACTION:DISPLAY
DESCRIPTION:Recordatorio: Servicio Integral de Cibersegu
END:VALARM
END:VEVENT
END:VCALENDAR