BEGIN:VCALENDAR
VERSION:2.0
PRODID:-//Contratero//ES
CALSCALE:GREGORIAN
METHOD:PUBLISH
BEGIN:VEVENT
UID:S-01455-2024@contratero.es
DTSTAMP:20260421T204736Z
DTSTART:20240409T235959
DTEND:20240410T005959
SUMMARY:Cierre: Servicios de mantenimiento de sistemas de IA
DESCRIPTION:Servicios de mantenimiento de sistemas de IA\\n\\nOrganismo: Dirección de Compras de la Corporación de Radio y Televisión Española S.A.\\n\\nVer en Contratero: https://contratero.es/contracts/S-01455-2024
URL:https://contratero.es/contracts/S-01455-2024
STATUS:CONFIRMED
BEGIN:VALARM
TRIGGER:-P1D
ACTION:DISPLAY
DESCRIPTION:Recordatorio: Servicios de mantenimiento de 
END:VALARM
END:VEVENT
END:VCALENDAR