BEGIN:VCALENDAR
VERSION:2.0
PRODID:-//Contratero//ES
CALSCALE:GREGORIAN
METHOD:PUBLISH
BEGIN:VEVENT
UID:S-01555-2021@contratero.es
DTSTAMP:20260424T212715Z
DTSTART:20210622T235959
DTEND:20210623T005959
SUMMARY:Cierre: Posicionamiento en buscadores y aplicaciones SEO y
DESCRIPTION:Posicionamiento en buscadores y aplicaciones SEO y ASO\\n\\nOrganismo: Dirección de Compras de la Corporación de Radio y Televisión Española S.A.\\n\\nVer en Contratero: https://contratero.es/contracts/S-01555-2021
URL:https://contratero.es/contracts/S-01555-2021
STATUS:CONFIRMED
BEGIN:VALARM
TRIGGER:-P1D
ACTION:DISPLAY
DESCRIPTION:Recordatorio: Posicionamiento en buscadores 
END:VALARM
END:VEVENT
END:VCALENDAR