BEGIN:VCALENDAR
VERSION:2.0
PRODID:-//Contratero//ES
CALSCALE:GREGORIAN
METHOD:PUBLISH
BEGIN:VEVENT
UID:S-01726-2023@contratero.es
DTSTAMP:20260425T113730Z
DTSTART:20230317T235959
DTEND:20230318T005959
SUMMARY:Cierre: Ampliación licencias para decodificadores IP Contr
DESCRIPTION:Ampliación licencias para decodificadores IP Control Internacional\\n\\nOrganismo: Dirección de Compras de la Corporación de Radio y Televisión Española S.A.\\n\\nVer en Contratero: https://contratero.es/contracts/S-01726-2023
URL:https://contratero.es/contracts/S-01726-2023
STATUS:CONFIRMED
BEGIN:VALARM
TRIGGER:-P1D
ACTION:DISPLAY
DESCRIPTION:Recordatorio: Ampliación licencias para deco
END:VALARM
END:VEVENT
END:VCALENDAR