BEGIN:VCALENDAR
VERSION:2.0
PRODID:-//Contratero//ES
CALSCALE:GREGORIAN
METHOD:PUBLISH
BEGIN:VEVENT
UID:S-01918-2025@contratero.es
DTSTAMP:20260422T114603Z
DTSTART:20250429T235959
DTEND:20250430T005959
SUMMARY:Cierre: Licencia para generador de gráficos web
DESCRIPTION:Licencia para generador de gráficos web\\n\\nOrganismo: Dirección de Compras de la Corporación de Radio y Televisión Española S.A.\\n\\nVer en Contratero: https://contratero.es/contracts/S-01918-2025
URL:https://contratero.es/contracts/S-01918-2025
STATUS:CONFIRMED
BEGIN:VALARM
TRIGGER:-P1D
ACTION:DISPLAY
DESCRIPTION:Recordatorio: Licencia para generador de grá
END:VALARM
END:VEVENT
END:VCALENDAR