BEGIN:VCALENDAR
VERSION:2.0
PRODID:-//Contratero//ES
CALSCALE:GREGORIAN
METHOD:PUBLISH
BEGIN:VEVENT
UID:S-02231-2024@contratero.es
DTSTAMP:20260424T070042Z
DTSTART:20240506T235959
DTEND:20240507T005959
SUMMARY:Cierre: Ampliación rasterizadores para señales UHD
DESCRIPTION:Ampliación rasterizadores para señales UHD\\n\\nOrganismo: Dirección de Compras de la Corporación de Radio y Televisión Española S.A.\\n\\nVer en Contratero: https://contratero.es/contracts/S-02231-2024
URL:https://contratero.es/contracts/S-02231-2024
STATUS:CONFIRMED
BEGIN:VALARM
TRIGGER:-P1D
ACTION:DISPLAY
DESCRIPTION:Recordatorio: Ampliación rasterizadores para
END:VALARM
END:VEVENT
END:VCALENDAR