BEGIN:VCALENDAR
VERSION:2.0
PRODID:-//Contratero//ES
CALSCALE:GREGORIAN
METHOD:PUBLISH
BEGIN:VEVENT
UID:S-02492-2024@contratero.es
DTSTAMP:20260424T051320Z
DTSTART:20240523T235959
DTEND:20240524T005959
SUMMARY:Cierre: Licencias Boris Continuum para Media Composer
DESCRIPTION:Licencias Boris Continuum para Media Composer\\n\\nOrganismo: Dirección de Compras de la Corporación de Radio y Televisión Española S.A.\\n\\nVer en Contratero: https://contratero.es/contracts/S-02492-2024
URL:https://contratero.es/contracts/S-02492-2024
STATUS:CONFIRMED
BEGIN:VALARM
TRIGGER:-P1D
ACTION:DISPLAY
DESCRIPTION:Recordatorio: Licencias Boris Continuum para
END:VALARM
END:VEVENT
END:VCALENDAR