BEGIN:VCALENDAR
VERSION:2.0
PRODID:-//Contratero//ES
CALSCALE:GREGORIAN
METHOD:PUBLISH
BEGIN:VEVENT
UID:S-02518-2024@contratero.es
DTSTAMP:20260420T232739Z
DTSTART:20240516T235959
DTEND:20240517T005959
SUMMARY:Cierre: Herramienta de análisis del comportamiento del usu
DESCRIPTION:Herramienta de análisis del comportamiento del usuario\\n\\nOrganismo: Dirección de Compras de la Corporación de Radio y Televisión Española S.A.\\n\\nVer en Contratero: https://contratero.es/contracts/S-02518-2024
URL:https://contratero.es/contracts/S-02518-2024
STATUS:CONFIRMED
BEGIN:VALARM
TRIGGER:-P1D
ACTION:DISPLAY
DESCRIPTION:Recordatorio: Herramienta de análisis del co
END:VALARM
END:VEVENT
END:VCALENDAR