BEGIN:VCALENDAR
VERSION:2.0
PRODID:-//Contratero//ES
CALSCALE:GREGORIAN
METHOD:PUBLISH
BEGIN:VEVENT
UID:S-02526-2023@contratero.es
DTSTAMP:20260425T210930Z
DTSTART:20230601T235959
DTEND:20230602T005959
SUMMARY:Cierre: Metadatado automático de contenidos del Fondo Docu
DESCRIPTION:Metadatado automático de contenidos del Fondo Documental  RTVE\\n\\nOrganismo: Dirección de Compras de la Corporación de Radio y Televisión Española S.A.\\n\\nVer en Contratero: https://contratero.es/contracts/S-02526-2023
URL:https://contratero.es/contracts/S-02526-2023
STATUS:CONFIRMED
BEGIN:VALARM
TRIGGER:-P1D
ACTION:DISPLAY
DESCRIPTION:Recordatorio: Metadatado automático de conte
END:VALARM
END:VEVENT
END:VCALENDAR