BEGIN:VCALENDAR
VERSION:2.0
PRODID:-//Contratero//ES
CALSCALE:GREGORIAN
METHOD:PUBLISH
BEGIN:VEVENT
UID:S-02932-2024@contratero.es
DTSTAMP:20260420T051215Z
DTSTART:20240618T235959
DTEND:20240619T005959
SUMMARY:Cierre: Servicio de internet FIBA - Preolimpico Baloncesto
DESCRIPTION:Servicio de internet FIBA - Preolimpico Baloncesto\\n\\nOrganismo: Dirección de Compras de la Corporación de Radio y Televisión Española S.A.\\n\\nVer en Contratero: https://contratero.es/contracts/S-02932-2024
URL:https://contratero.es/contracts/S-02932-2024
STATUS:CONFIRMED
BEGIN:VALARM
TRIGGER:-P1D
ACTION:DISPLAY
DESCRIPTION:Recordatorio: Servicio de internet FIBA - Pr
END:VALARM
END:VEVENT
END:VCALENDAR