BEGIN:VCALENDAR
VERSION:2.0
PRODID:-//Contratero//ES
CALSCALE:GREGORIAN
METHOD:PUBLISH
BEGIN:VEVENT
UID:S-03029-2022@contratero.es
DTSTAMP:20260421T154447Z
DTSTART:20220908T235959
DTEND:20220909T005959
SUMMARY:Cierre: Prototipado de narrativas interactivas para el Lab
DESCRIPTION:Prototipado de narrativas interactivas para el Laboratorio de Innovación Audiovisual de RTVE\\n\\nOrganismo: Dirección de Compras de la Corporación de Radio y Televisión Española S.A.\\n\\nVer en Contratero: https://contratero.es/contracts/S-03029-2022
URL:https://contratero.es/contracts/S-03029-2022
STATUS:CONFIRMED
BEGIN:VALARM
TRIGGER:-P1D
ACTION:DISPLAY
DESCRIPTION:Recordatorio: Prototipado de narrativas inte
END:VALARM
END:VEVENT
END:VCALENDAR