BEGIN:VCALENDAR
VERSION:2.0
PRODID:-//Contratero//ES
CALSCALE:GREGORIAN
METHOD:PUBLISH
BEGIN:VEVENT
UID:S-03523-2021@contratero.es
DTSTAMP:20260424T225638Z
DTSTART:20210609T235959
DTEND:20210610T005959
SUMMARY:Cierre: Servicio Gestión de identidad y SSO
DESCRIPTION:Servicio Gestión de identidad y SSO\\n\\nOrganismo: Dirección de Compras de la Corporación de Radio y Televisión Española S.A.\\n\\nVer en Contratero: https://contratero.es/contracts/S-03523-2021
URL:https://contratero.es/contracts/S-03523-2021
STATUS:CONFIRMED
BEGIN:VALARM
TRIGGER:-P1D
ACTION:DISPLAY
DESCRIPTION:Recordatorio: Servicio Gestión de identidad 
END:VALARM
END:VEVENT
END:VCALENDAR