BEGIN:VCALENDAR
VERSION:2.0
PRODID:-//Contratero//ES
CALSCALE:GREGORIAN
METHOD:PUBLISH
BEGIN:VEVENT
UID:S-03596-20190429@contratero.es
DTSTAMP:20260420T043702Z
DTSTART:20190516T235959
DTEND:20190517T005959
SUMMARY:Cierre: Herramienta especializada de análisis de cine en e
DESCRIPTION:Herramienta especializada de análisis de cine en el mercado de TV.\\n\\nOrganismo: Dirección de Compras de la Corporación de Radio y Televisión Española S.A.\\n\\nVer en Contratero: https://contratero.es/contracts/S-03596-20190429
URL:https://contratero.es/contracts/S-03596-20190429
STATUS:CONFIRMED
BEGIN:VALARM
TRIGGER:-P1D
ACTION:DISPLAY
DESCRIPTION:Recordatorio: Herramienta especializada de a
END:VALARM
END:VEVENT
END:VCALENDAR