BEGIN:VCALENDAR
VERSION:2.0
PRODID:-//Contratero//ES
CALSCALE:GREGORIAN
METHOD:PUBLISH
BEGIN:VEVENT
UID:S-03946-2024@contratero.es
DTSTAMP:20260420T182220Z
DTSTART:20240930T235959
DTEND:20241001T005959
SUMMARY:Cierre: Tratamiento de contenido en series según acuerdo c
DESCRIPTION:Tratamiento de contenido en series según acuerdo con Netflix\\n\\nOrganismo: Dirección de Compras de la Corporación de Radio y Televisión Española S.A.\\n\\nVer en Contratero: https://contratero.es/contracts/S-03946-2024
URL:https://contratero.es/contracts/S-03946-2024
STATUS:CONFIRMED
BEGIN:VALARM
TRIGGER:-P1D
ACTION:DISPLAY
DESCRIPTION:Recordatorio: Tratamiento de contenido en se
END:VALARM
END:VEVENT
END:VCALENDAR