BEGIN:VCALENDAR
VERSION:2.0
PRODID:-//Contratero//ES
CALSCALE:GREGORIAN
METHOD:PUBLISH
BEGIN:VEVENT
UID:S-04173-2022@contratero.es
DTSTAMP:20260422T161101Z
DTSTART:20220919T235959
DTEND:20220920T005959
SUMMARY:Cierre: Proyecto Haz - Learning office
DESCRIPTION:Proyecto Haz - Learning office\\n\\nOrganismo: Dirección de Compras de la Corporación de Radio y Televisión Española S.A.\\n\\nVer en Contratero: https://contratero.es/contracts/S-04173-2022
URL:https://contratero.es/contracts/S-04173-2022
STATUS:CONFIRMED
BEGIN:VALARM
TRIGGER:-P1D
ACTION:DISPLAY
DESCRIPTION:Recordatorio: Proyecto Haz - Learning office
END:VALARM
END:VEVENT
END:VCALENDAR