BEGIN:VCALENDAR
VERSION:2.0
PRODID:-//Contratero//ES
CALSCALE:GREGORIAN
METHOD:PUBLISH
BEGIN:VEVENT
UID:S-05089-2021@contratero.es
DTSTAMP:20260423T121108Z
DTSTART:20211004T235959
DTEND:20211005T005959
SUMMARY:Cierre: Plataforma basada en nube para intercambio de cont
DESCRIPTION:Plataforma basada en nube para intercambio de contenidos y producción de programas en RTVE\\n\\nOrganismo: Dirección de Compras de la Corporación de Radio y Televisión Española S.A.\\n\\nVer en Contratero: https://contratero.es/contracts/S-05089-2021
URL:https://contratero.es/contracts/S-05089-2021
STATUS:CONFIRMED
BEGIN:VALARM
TRIGGER:-P1D
ACTION:DISPLAY
DESCRIPTION:Recordatorio: Plataforma basada en nube para
END:VALARM
END:VEVENT
END:VCALENDAR