BEGIN:VCALENDAR
VERSION:2.0
PRODID:-//Contratero//ES
CALSCALE:GREGORIAN
METHOD:PUBLISH
BEGIN:VEVENT
UID:S-05123-2025@contratero.es
DTSTAMP:20260421T112003Z
DTSTART:20260209T235959
DTEND:20260210T005959
SUMMARY:Cierre: Mantenimiento del sistema FAB de automatización de
DESCRIPTION:Mantenimiento del sistema FAB de automatización de los servicios de subtitulado y teletexto\\n\\nOrganismo: Dirección de Compras de la Corporación de Radio y Televisión Española S.A.\\n\\nVer en Contratero: https://contratero.es/contracts/S-05123-2025
URL:https://contratero.es/contracts/S-05123-2025
STATUS:CONFIRMED
BEGIN:VALARM
TRIGGER:-P1D
ACTION:DISPLAY
DESCRIPTION:Recordatorio: Mantenimiento del sistema FAB 
END:VALARM
END:VEVENT
END:VCALENDAR