BEGIN:VCALENDAR
VERSION:2.0
PRODID:-//Contratero//ES
CALSCALE:GREGORIAN
METHOD:PUBLISH
BEGIN:VEVENT
UID:S-05128-2025@contratero.es
DTSTAMP:20260420T045003Z
DTSTART:20251216T235959
DTEND:20251217T005959
SUMMARY:Cierre: Servidor de back up de gestión KVM control central
DESCRIPTION:Servidor de back up de gestión KVM control central Torrespaña\\n\\nOrganismo: Dirección de Compras de la Corporación de Radio y Televisión Española S.A.\\n\\nVer en Contratero: https://contratero.es/contracts/S-05128-2025
URL:https://contratero.es/contracts/S-05128-2025
STATUS:CONFIRMED
BEGIN:VALARM
TRIGGER:-P1D
ACTION:DISPLAY
DESCRIPTION:Recordatorio: Servidor de back up de gestión
END:VALARM
END:VEVENT
END:VCALENDAR