BEGIN:VCALENDAR
VERSION:2.0
PRODID:-//Contratero//ES
CALSCALE:GREGORIAN
METHOD:PUBLISH
BEGIN:VEVENT
UID:S-05164-2022@contratero.es
DTSTAMP:20260423T224514Z
DTSTART:20220921T235959
DTEND:20220922T005959
SUMMARY:Cierre: Portal de Proveedores para RTVE (Prove@)
DESCRIPTION:Portal de Proveedores para RTVE (Prove@)\\n\\nOrganismo: Dirección de Compras de la Corporación de Radio y Televisión Española S.A.\\n\\nVer en Contratero: https://contratero.es/contracts/S-05164-2022
URL:https://contratero.es/contracts/S-05164-2022
STATUS:CONFIRMED
BEGIN:VALARM
TRIGGER:-P1D
ACTION:DISPLAY
DESCRIPTION:Recordatorio: Portal de Proveedores para RTV
END:VALARM
END:VEVENT
END:VCALENDAR