BEGIN:VCALENDAR
VERSION:2.0
PRODID:-//Contratero//ES
CALSCALE:GREGORIAN
METHOD:PUBLISH
BEGIN:VEVENT
UID:S-05190-2025@contratero.es
DTSTAMP:20260420T155537Z
DTSTART:20251215T235959
DTEND:20251216T005959
SUMMARY:Cierre: Soporte y mantenimiento de Licencias de software d
DESCRIPTION:Soporte y mantenimiento de Licencias de software de estaciones de trabajo FLAME\\n\\nOrganismo: Dirección de Compras de la Corporación de Radio y Televisión Española S.A.\\n\\nVer en Contratero: https://contratero.es/contracts/S-05190-2025
URL:https://contratero.es/contracts/S-05190-2025
STATUS:CONFIRMED
BEGIN:VALARM
TRIGGER:-P1D
ACTION:DISPLAY
DESCRIPTION:Recordatorio: Soporte y mantenimiento de Lic
END:VALARM
END:VEVENT
END:VCALENDAR