BEGIN:VCALENDAR
VERSION:2.0
PRODID:-//Contratero//ES
CALSCALE:GREGORIAN
METHOD:PUBLISH
BEGIN:VEVENT
UID:S-05280-2024@contratero.es
DTSTAMP:20260423T214711Z
DTSTART:20241210T235959
DTEND:20241211T005959
SUMMARY:Cierre: Soporte y mantenimiento de licencias de software d
DESCRIPTION:Soporte y mantenimiento de licencias de software de estaciones de trabajo FLAME\\n\\nOrganismo: Dirección de Compras de la Corporación de Radio y Televisión Española S.A.\\n\\nVer en Contratero: https://contratero.es/contracts/S-05280-2024
URL:https://contratero.es/contracts/S-05280-2024
STATUS:CONFIRMED
BEGIN:VALARM
TRIGGER:-P1D
ACTION:DISPLAY
DESCRIPTION:Recordatorio: Soporte y mantenimiento de lic
END:VALARM
END:VEVENT
END:VCALENDAR