BEGIN:VCALENDAR
VERSION:2.0
PRODID:-//Contratero//ES
CALSCALE:GREGORIAN
METHOD:PUBLISH
BEGIN:VEVENT
UID:S-05429-2023@contratero.es
DTSTAMP:20260422T115219Z
DTSTART:20231019T235959
DTEND:20231020T005959
SUMMARY:Cierre: Mantenimiento sistema BASELIGHT
DESCRIPTION:Mantenimiento sistema BASELIGHT\\n\\nOrganismo: Dirección de Compras de la Corporación de Radio y Televisión Española S.A.\\n\\nVer en Contratero: https://contratero.es/contracts/S-05429-2023
URL:https://contratero.es/contracts/S-05429-2023
STATUS:CONFIRMED
BEGIN:VALARM
TRIGGER:-P1D
ACTION:DISPLAY
DESCRIPTION:Recordatorio: Mantenimiento sistema BASELIGH
END:VALARM
END:VEVENT
END:VCALENDAR