BEGIN:VCALENDAR
VERSION:2.0
PRODID:-//Contratero//ES
CALSCALE:GREGORIAN
METHOD:PUBLISH
BEGIN:VEVENT
UID:S-05643-2021@contratero.es
DTSTAMP:20260420T224741Z
DTSTART:20211015T235959
DTEND:20211016T005959
SUMMARY:Cierre: Lisboa: Telefonía fija + internet fijo + TV cable
DESCRIPTION:Lisboa: Telefonía fija + internet fijo + TV cable\\n\\nOrganismo: Dirección de Compras de la Corporación de Radio y Televisión Española S.A.\\n\\nVer en Contratero: https://contratero.es/contracts/S-05643-2021
URL:https://contratero.es/contracts/S-05643-2021
STATUS:CONFIRMED
BEGIN:VALARM
TRIGGER:-P1D
ACTION:DISPLAY
DESCRIPTION:Recordatorio: Lisboa: Telefonía fija + inter
END:VALARM
END:VEVENT
END:VCALENDAR