BEGIN:VCALENDAR
VERSION:2.0
PRODID:-//Contratero//ES
CALSCALE:GREGORIAN
METHOD:PUBLISH
BEGIN:VEVENT
UID:S-05859-2023@contratero.es
DTSTAMP:20260420T090616Z
DTSTART:20231030T235959
DTEND:20231031T005959
SUMMARY:Cierre: Berlín - Internet y Telefonia IP
DESCRIPTION:Berlín - Internet y Telefonia IP\\n\\nOrganismo: Dirección de Compras de la Corporación de Radio y Televisión Española S.A.\\n\\nVer en Contratero: https://contratero.es/contracts/S-05859-2023
URL:https://contratero.es/contracts/S-05859-2023
STATUS:CONFIRMED
BEGIN:VALARM
TRIGGER:-P1D
ACTION:DISPLAY
DESCRIPTION:Recordatorio: Berlín - Internet y Telefonia 
END:VALARM
END:VEVENT
END:VCALENDAR