BEGIN:VCALENDAR
VERSION:2.0
PRODID:-//Contratero//ES
CALSCALE:GREGORIAN
METHOD:PUBLISH
BEGIN:VEVENT
UID:S-06662-2024@contratero.es
DTSTAMP:20260423T063638Z
DTSTART:20250320T235959
DTEND:20250321T005959
SUMMARY:Cierre: Desarrollo de Soluciones Analíticas
DESCRIPTION:Desarrollo de Soluciones Analíticas\\n\\nOrganismo: Dirección de Compras de la Corporación de Radio y Televisión Española S.A.\\n\\nVer en Contratero: https://contratero.es/contracts/S-06662-2024
URL:https://contratero.es/contracts/S-06662-2024
STATUS:CONFIRMED
BEGIN:VALARM
TRIGGER:-P1D
ACTION:DISPLAY
DESCRIPTION:Recordatorio: Desarrollo de Soluciones Analí
END:VALARM
END:VEVENT
END:VCALENDAR