BEGIN:VCALENDAR
VERSION:2.0
PRODID:-//Contratero//ES
CALSCALE:GREGORIAN
METHOD:PUBLISH
BEGIN:VEVENT
UID:S-06862-2024@contratero.es
DTSTAMP:20260422T154058Z
DTSTART:20250303T235959
DTEND:20250304T005959
SUMMARY:Cierre: Automatización de la generación de versiones para 
DESCRIPTION:Automatización de la generación de versiones para promociones\\n\\nOrganismo: Dirección de Compras de la Corporación de Radio y Televisión Española S.A.\\n\\nVer en Contratero: https://contratero.es/contracts/S-06862-2024
URL:https://contratero.es/contracts/S-06862-2024
STATUS:CONFIRMED
BEGIN:VALARM
TRIGGER:-P1D
ACTION:DISPLAY
DESCRIPTION:Recordatorio: Automatización de la generació
END:VALARM
END:VEVENT
END:VCALENDAR