BEGIN:VCALENDAR
VERSION:2.0
PRODID:-//Contratero//ES
CALSCALE:GREGORIAN
METHOD:PUBLISH
BEGIN:VEVENT
UID:S-09/23(F)@contratero.es
DTSTAMP:20260425T182035Z
DTSTART:20231108T235959
DTEND:20231109T005959
SUMMARY:Cierre: Servicio de consultoría y asesoría tecnológica par
DESCRIPTION:Servicio de consultoría y asesoría tecnológica para la comercialización publicitaria digital\\n\\nOrganismo: Secretario General de la Federación de Organismos o Entidades de Radio y Televisión Autonómicos - FORTA\\n\\nVer en Contratero: https://contratero.es/contracts/S-09/23(F)
URL:https://contratero.es/contracts/S-09/23(F)
STATUS:CONFIRMED
BEGIN:VALARM
TRIGGER:-P1D
ACTION:DISPLAY
DESCRIPTION:Recordatorio: Servicio de consultoría y ases
END:VALARM
END:VEVENT
END:VCALENDAR