BEGIN:VCALENDAR
VERSION:2.0
PRODID:-//Contratero//ES
CALSCALE:GREGORIAN
METHOD:PUBLISH
BEGIN:VEVENT
UID:S-09688-20181210@contratero.es
DTSTAMP:20260425T140914Z
DTSTART:20190227T235959
DTEND:20190228T005959
SUMMARY:Cierre: Acuerdo suscripción Licencias ADOBE (2019-2022)
DESCRIPTION:Acuerdo suscripción Licencias ADOBE (2019-2022)\\n\\nOrganismo: Dirección de Compras de la Corporación de Radio y Televisión Española S.A.\\n\\nVer en Contratero: https://contratero.es/contracts/S-09688-20181210
URL:https://contratero.es/contracts/S-09688-20181210
STATUS:CONFIRMED
BEGIN:VALARM
TRIGGER:-P1D
ACTION:DISPLAY
DESCRIPTION:Recordatorio: Acuerdo suscripción Licencias 
END:VALARM
END:VEVENT
END:VCALENDAR